BEGIN:VCALENDAR
PRODID:-//104.21.2.94//NONSGML iCalcreator 2.6//
VERSION:2.0
BEGIN:VEVENT
UID:20260423T110347UTC-7252HJs0sW@104.21.2.94
DTSTAMP:20260423T110347Z
CATEGORIES:援豐會Events
DESCRIPTION:
DTSTART:20160624T123000
DTEND:20160624T140000
LOCATION:
SUMMARY:援風會 (支援中風華人協會)\,六月活動
END:VEVENT
END:VCALENDAR
