BEGIN:VCALENDAR
PRODID:-//172.67.129.11//NONSGML iCalcreator 2.6//
VERSION:2.0
BEGIN:VEVENT
UID:20260423T110347UTC-71569iAuE2@172.67.129.11
DTSTAMP:20260423T110347Z
CATEGORIES:援豐會Events
DESCRIPTION:
DTSTART:20161028T123000
DTEND:20161028T140000
LOCATION:
SUMMARY:援風會 (支援中風華人協會)\,十月活動
END:VEVENT
END:VCALENDAR
