BEGIN:VCALENDAR
PRODID:-//172.67.129.11//NONSGML iCalcreator 2.6//
VERSION:2.0
BEGIN:VEVENT
UID:20260422T141157UTC-846411VXur@172.67.129.11
DTSTAMP:20260422T141157Z
CATEGORIES:援豐會Events
DESCRIPTION:
DTSTART:20160226T123000
DTEND:20160226T140000
LOCATION:
SUMMARY:援風會 (支援中風華人協會)\,二月活動
END:VEVENT
END:VCALENDAR
