BEGIN:VCALENDAR
PRODID:-//172.67.129.11//NONSGML iCalcreator 2.6//
VERSION:2.0
BEGIN:VEVENT
UID:20260417T224853UTC-56392bOtKg@172.67.129.11
DTSTAMP:20260417T224853Z
CATEGORIES:援豐會Events
DESCRIPTION:
DTSTART:20170925T130000
DTEND:20170925T150000
LOCATION:
SUMMARY:援風會 (支援中風華人協會)，九月活動 &#8220\;家好
 圓慶中秋&#8221\;
END:VEVENT
END:VCALENDAR
