BEGIN:VCALENDAR
PRODID:-//172.67.129.11//NONSGML iCalcreator 2.6//
VERSION:2.0
BEGIN:VEVENT
UID:20260417T224853UTC-5612pdixzh@172.67.129.11
DTSTAMP:20260417T224853Z
CATEGORIES:援豐會Events
DESCRIPTION:
DTSTART:20171014T000000
DTEND:20171014T000000
LOCATION:
SUMMARY:防患未然，慢性疾病資訉日
END:VEVENT
END:VCALENDAR
