BEGIN:VCALENDAR
PRODID:-//172.67.129.11//NONSGML iCalcreator 2.6//
VERSION:2.0
BEGIN:VEVENT
UID:20260422T140009UTC-80283JdtoH@172.67.129.11
DTSTAMP:20260422T140009Z
CATEGORIES:援豐會Events
DESCRIPTION:
DTSTART:20171030T130000
DTEND:20171030T150000
LOCATION:
SUMMARY:援風會 (支援中風華人協會)，十月活動 &#8220\;「法
 常識」&#8221\;
END:VEVENT
END:VCALENDAR
