BEGIN:VCALENDAR
PRODID:-//104.21.2.94//NONSGML iCalcreator 2.6//
VERSION:2.0
BEGIN:VEVENT
UID:20260422T140009UTC-7995e6ehHp@104.21.2.94
DTSTAMP:20260422T140009Z
CATEGORIES:援豐會Events
DESCRIPTION:
DTSTART:20171127T130000
DTEND:20171127T150000
LOCATION:
SUMMARY:援風會 (支援中風華人協會)，十一月活動 &#8220\;「2
 017 年終圣诞Party」&#8221\;
END:VEVENT
END:VCALENDAR
