BEGIN:VCALENDAR
PRODID:-//104.21.2.94//NONSGML iCalcreator 2.6//
VERSION:2.0
BEGIN:VEVENT
UID:20260422T140009UTC-7971cpe52e@104.21.2.94
DTSTAMP:20260422T140009Z
CATEGORIES:援豐會Events
DESCRIPTION:
DTSTART:20180226T130000
DTEND:20180226T150000
LOCATION:
SUMMARY:援風會 (支援中風華人協會)，2018 二月活動 &#8220\;
 春團拜 -狗年吉祥&#8221\;
END:VEVENT
END:VCALENDAR
