BEGIN:VCALENDAR
PRODID:-//104.21.2.94//NONSGML iCalcreator 2.6//
VERSION:2.0
BEGIN:VEVENT
UID:20260422T140009UTC-7887p3j9wt@104.21.2.94
DTSTAMP:20260422T140009Z
CATEGORIES:援豐會Events
DESCRIPTION:
DTSTART:20180528T130000
DTEND:20180528T150000
LOCATION:
SUMMARY:援風會 (支援中風華人協會)，2018 五月活動 「祝無
 大愛的母親節日快樂」
END:VEVENT
END:VCALENDAR
