BEGIN:VCALENDAR
PRODID:-//104.21.2.94//NONSGML iCalcreator 2.6//
VERSION:2.0
BEGIN:VEVENT
UID:20260422T140009UTC-7858Ug6WKo@104.21.2.94
DTSTAMP:20260422T140009Z
CATEGORIES:援豐會Events
DESCRIPTION:
DTSTART:20180625T130000
DTEND:20180625T150000
LOCATION:
SUMMARY:援風會 (支援中風華人協會)，2018 六月活动 「健康
 讯及共庆端午节」
END:VEVENT
END:VCALENDAR
