BEGIN:VCALENDAR
PRODID:-//172.67.129.11//NONSGML iCalcreator 2.6//
VERSION:2.0
BEGIN:VEVENT
UID:20260422T140009UTC-78212ic1b9@172.67.129.11
DTSTAMP:20260422T140009Z
CATEGORIES:援豐會Events
DESCRIPTION:
DTSTART:20180730T130000
DTEND:20180730T150000
LOCATION:
SUMMARY:援風會 (支援中風華人協會)，2018 七月活動 「七月
 誕」
END:VEVENT
END:VCALENDAR
