BEGIN:VCALENDAR
PRODID:-//104.21.2.94//NONSGML iCalcreator 2.6//
VERSION:2.0
BEGIN:VEVENT
UID:20260422T140009UTC-7776KRbbAZ@104.21.2.94
DTSTAMP:20260422T140009Z
CATEGORIES:援豐會Events
DESCRIPTION:
DTSTART:20180827T130000
DTEND:20180827T150000
LOCATION:
SUMMARY:「Shine 陽光團隊」為「援風會 」會員慶祝父親節及
 養生講座
END:VEVENT
END:VCALENDAR
