BEGIN:VCALENDAR
PRODID:-//172.67.129.11//NONSGML iCalcreator 2.6//
VERSION:2.0
BEGIN:VEVENT
UID:20260422T140009UTC-77269FLrmo@172.67.129.11
DTSTAMP:20260422T140009Z
CATEGORIES:援豐會Events
DESCRIPTION:
DTSTART:20180924T130000
DTEND:20180924T150000
LOCATION:
SUMMARY:Shine 阳光团队为「援风会」会员 庆中秋佳节
END:VEVENT
END:VCALENDAR
