BEGIN:VCALENDAR
PRODID:-//104.21.2.94//NONSGML iCalcreator 2.6//
VERSION:2.0
BEGIN:VEVENT
UID:20260424T013204UTC-34012PLs1D@104.21.2.94
DTSTAMP:20260424T013204Z
CATEGORIES:援豐會Events
DESCRIPTION:
DTSTART:20181013T090000
DTEND:20181013T163000
LOCATION:
SUMMARY:預防慢性疾病活動日
END:VEVENT
END:VCALENDAR
