BEGIN:VCALENDAR
PRODID:-//172.67.129.11//NONSGML iCalcreator 2.6//
VERSION:2.0
BEGIN:VEVENT
UID:20260424T013204UTC-3363Sf9VDP@172.67.129.11
DTSTAMP:20260424T013204Z
CATEGORIES:援豐會Events
DESCRIPTION:
DTSTART:20181029T090000
DTEND:20181029T163000
LOCATION:
SUMMARY:陽光團隊為「援風會」安排「法律常識 講座」什麼
 是“不當對待長者”
END:VEVENT
END:VCALENDAR
