BEGIN:VCALENDAR
PRODID:-//104.21.2.94//NONSGML iCalcreator 2.6//
VERSION:2.0
BEGIN:VEVENT
UID:20260424T013204UTC-3271uLPZHC@104.21.2.94
DTSTAMP:20260424T013204Z
CATEGORIES:援豐會Events
DESCRIPTION:
DTSTART:20181117T103000
DTEND:20181117T150000
LOCATION:
SUMMARY:援风会及狮子会201V1-4区参与欢欣同路嘉年华 推广
 防糖尿病及中风信息
END:VEVENT
END:VCALENDAR
