BEGIN:VCALENDAR
PRODID:-//172.67.129.11//NONSGML iCalcreator 2.6//
VERSION:2.0
BEGIN:VEVENT
UID:20260424T013204UTC-3245Cgipzz@172.67.129.11
DTSTAMP:20260424T013204Z
CATEGORIES:援豐會Events
DESCRIPTION:
DTSTART:20181126T130000
DTEND:20181126T150000
LOCATION:
SUMMARY:Shine 阳光团队为「援风会」庆祝圣诞
END:VEVENT
END:VCALENDAR
