BEGIN:VCALENDAR
PRODID:-//139.99.149.32//NONSGML iCalcreator 2.6//
VERSION:2.0
BEGIN:VEVENT
UID:20190301T051119UTC-6058maL6lW@139.99.149.32
DTSTAMP:20190301T051119Z
CATEGORIES:援风会（支援中风华人协会）Events
DESCRIPTION:
DTSTART:20190225T000000
DTEND:20190225T000000
LOCATION:
SUMMARY:”援丰会” 庆祝春节活动在欢声笑语中圆满落下帷
 幕！感恩满满，祝福多多
END:VEVENT
END:VCALENDAR
