BEGIN:VCALENDAR
PRODID:-//172.67.129.11//NONSGML iCalcreator 2.6//
VERSION:2.0
BEGIN:VEVENT
UID:20260424T013204UTC-3184NuC10h@172.67.129.11
DTSTAMP:20260424T013204Z
CATEGORIES:援豐會Events
DESCRIPTION:
DTSTART:20190325T103000
DTEND:20190325T123000
LOCATION:
SUMMARY:涨知识！庆节日！ 2019年援丰会科普系列讲座：使
 药物的正确观念
END:VEVENT
END:VCALENDAR
