BEGIN:VCALENDAR
PRODID:-//104.21.2.94//NONSGML iCalcreator 2.6//
VERSION:2.0
BEGIN:VEVENT
UID:20260424T013204UTC-31543hEvV3@104.21.2.94
DTSTAMP:20260424T013204Z
CATEGORIES:援豐會Events
DESCRIPTION:
DTSTART:20190401T103000
DTEND:20190401T123000
LOCATION:
SUMMARY:四月一日「援豐會」至怡康全人發展中心舉辦「預
 中風」講座
END:VEVENT
END:VCALENDAR
