BEGIN:VCALENDAR
PRODID:-//104.21.2.94//NONSGML iCalcreator 2.6//
VERSION:2.0
BEGIN:VEVENT
UID:20260424T013204UTC-3097SACoCH@104.21.2.94
DTSTAMP:20260424T013204Z
CATEGORIES:援豐會Events
DESCRIPTION:
DTSTART:20190429T103000
DTEND:20190429T123000
LOCATION:
SUMMARY:「援豐會」如何保障家居安全講座
END:VEVENT
END:VCALENDAR
