BEGIN:VCALENDAR
PRODID:-//172.67.129.11//NONSGML iCalcreator 2.6//
VERSION:2.0
BEGIN:VEVENT
UID:20260424T175152UTC-6020XUPvws@172.67.129.11
DTSTAMP:20260424T175152Z
CATEGORIES:援豐會Events
DESCRIPTION:
DTSTART:20190527T103000
DTEND:20190527T123000
LOCATION:
SUMMARY:花鲜人善！ 一颗颗感恩的心 温暖了援丰会的大家
 !
END:VEVENT
END:VCALENDAR
