BEGIN:VCALENDAR
PRODID:-//104.21.2.94//NONSGML iCalcreator 2.6//
VERSION:2.0
BEGIN:VEVENT
UID:20260424T175152UTC-5943F8h4UD@104.21.2.94
DTSTAMP:20260424T175152Z
CATEGORIES:援豐會Events
DESCRIPTION:
DTSTART:20190624T103000
DTEND:20190624T123000
LOCATION:
SUMMARY:&#8220\;陽光團隊&#8221\; 為&#8221\;援豐會&#8221\; 長者慶
 祝 &#8220\;五月端陽節&#8221\;及安全證件介紹，讓老人不再
 懼怕迷路或者一個人出門！
END:VEVENT
END:VCALENDAR
